BEGIN:VCALENDAR
VERSION:2.0
PRODID:-//eventon.com NONSGML v1.0//EN
CALSCALE:GREGORIAN
METHOD:PUBLISH
BEGIN:VEVENT
UID:69e9fa9ef043a
DTSTAMP:20260423T105526Z
DTSTART:20260607T190000Z
DTEND:20260607T235000Z
LOCATION:
SUMMARY:Gitte Haenning & Band
DESCRIPTION:Bereits als Achtjährige stand Gitte gemeinsam mit ihrem Vater 
 auf der Bühne. Mittlerweile kann die dänische Künstlerin auf über 70 Ja
 hrzehnte Bühnenerfahrung zurückblicken. Anlässlich ihres 80. Geburtstags
  präsentiert Gitte an diesem Konzertabend noch einmal ihre großen Hits. I
 hre Musik ist ein Spiegel ihres Lebens – ein Ausdruck von Lebenskraft und
 [..]\nhttps://bremen-nord.de/events/gitte-haenning-band/
URL:https://bremen-nord.de/events/gitte-haenning-band/
END:VEVENT
END:VCALENDAR