BEGIN:VCALENDAR
VERSION:2.0
PRODID:-//eventon.com NONSGML v1.0//EN
CALSCALE:GREGORIAN
METHOD:PUBLISH
BEGIN:VEVENT
UID:69e9fb864393e
DTSTAMP:20260423T105918Z
DTSTART:20260425T180000Z
DTEND:20260425T215000Z
LOCATION:
SUMMARY:LUKSAN WUNDER
DESCRIPTION:Achtung: Die Veranstaltung im kuba wird ins KITO verlegt. Ticke
 ts behalten selbstverständlich ihre Gültigkeit. Das vielfach ausgezeichne
 te Humorkollektiv Luksan Wunder ist eine absolute Ausnahmeerscheinung in de
 r Comedyszene. Sie bringen die Absurdität des Medienzeitalters so anders u
 nd so lustig auf die Bühne\,  dass sie sich jeglichem Vergleich entziehen.
  Man muss sie[..]\nhttps://bremen-nord.de/events/luksan-wunder/
URL:https://bremen-nord.de/events/luksan-wunder/
END:VEVENT
END:VCALENDAR