BEGIN:VCALENDAR
VERSION:2.0
PRODID:-//eventon.com NONSGML v1.0//EN
CALSCALE:GREGORIAN
METHOD:PUBLISH
BEGIN:VEVENT
UID:69e9fb513e564
DTSTAMP:20260423T105825Z
DTSTART:20260430T130000Z
DTEND:20260430T160000Z
LOCATION:
SUMMARY:Blumenthaler Maibaumsetzen
DESCRIPTION:Nach den großen Erfolgen der letzten Jahre\,  veranstaltet der
  Förderverein Bürgerstiftung Blumenthal e. V. auch in diesem Jahr wieder 
 das Maibaumsetzen auf dem Blumenthaler Marktplatz. Zeitraum der Veranstaltu
 ng ist von 14 Uhr bis 18Uhr.\nhttps://bremen-nord.de/events/blumenthaler-ma
 ibaumsetzen/
URL:https://bremen-nord.de/events/blumenthaler-maibaumsetzen/
END:VEVENT
END:VCALENDAR