BEGIN:VCALENDAR
VERSION:2.0
PRODID:-//eventon.com NONSGML v1.0//EN
CALSCALE:GREGORIAN
METHOD:PUBLISH
BEGIN:VEVENT
UID:69e9fbff8c1c5
DTSTAMP:20260423T110119Z
DTSTART:20260525T090000Z
DTEND:20260525T130000Z
LOCATION:
SUMMARY:Pfingstfrühschoppen
DESCRIPTION:Die 2. Auflage des Pfingstfrühschoppen  auf dem Blumenthaler 
 Marktplatz in der Zeit von 11 Uhr bis 15 Uhr Essen\,  trinken\,  Unterhaltu
 ng und vieles mehr &nbsp;\nhttps://bremen-nord.de/events/pfingstfruehschopp
 en/
URL:https://bremen-nord.de/events/pfingstfruehschoppen/
END:VEVENT
END:VCALENDAR