BEGIN:VCALENDAR
VERSION:2.0
PRODID:-//eventon.com NONSGML v1.0//EN
CALSCALE:GREGORIAN
METHOD:PUBLISH
BEGIN:VEVENT
UID:69e9fb66f3bb7
DTSTAMP:20260423T105846Z
DTSTART:20260521T100000Z
DTEND:20260521T215000Z
LOCATION:
SUMMARY:„knülle.“
DESCRIPTION:Eintritt frei Die großen Formate der aktuellen Ausstellung „
 knülle.“ von Luis Toledo bestimmen seit dem 08. April nicht nur das Raum
 gefühl im NUNATAK sondern verführen die Betrachter:innen auch immer wiede
 r zu Gedanken wie: Könnte ich nicht auch mal selbst so kritzeln? Oder soga
 r zu dem Impuls: Ich hätte Lust\,  diese[..]\nhttps://bremen-nord.de/event
 s/knuelle/
URL:https://bremen-nord.de/events/knuelle/
END:VEVENT
END:VCALENDAR