BEGIN:VCALENDAR
VERSION:2.0
PRODID:-//eventon.com NONSGML v1.0//EN
CALSCALE:GREGORIAN
METHOD:PUBLISH
BEGIN:VEVENT
UID:69e9fbcf57c73
DTSTAMP:20260423T110031Z
DTSTART:20260529T170000Z
DTEND:20260529T215000Z
LOCATION:
SUMMARY:Liederin
DESCRIPTION:Liederin ist ein Akustikduo aus Bremen. Sie spielen ihre eigene
 n Songs\,  die sie liebevoll psychedelic Chansons nennen. Anna Ribeau (Gesa
 ng & Gitarre) und Robert Ribeau (Leadgitarre\,  Backing Vocals\,  Percussio
 n) verbinden ihre fein komponierten\,  charismatischen Songs mit verspielte
 n\,  poetischen Texten und schaffen damit einen einzigartigen atmosphärisc
 hen Sound. Stilistisch bewegt sich Liederin zwischen[..]\nhttps://bremen-n
 ord.de/events/liederin/
URL:https://bremen-nord.de/events/liederin/
END:VEVENT
END:VCALENDAR