BEGIN:VCALENDAR
VERSION:2.0
PRODID:-//eventon.com NONSGML v1.0//EN
CALSCALE:GREGORIAN
METHOD:PUBLISH
BEGIN:VEVENT
UID:69e9fb67499f8
DTSTAMP:20260423T105847Z
DTSTART:20260627
DTEND:20260628
LOCATION:
SUMMARY:Vegesacker Matjestag
DESCRIPTION:Infos folgen\nhttps://bremen-nord.de/events/vegesacker-matjesta
 g/
URL:https://bremen-nord.de/events/vegesacker-matjestag/
END:VEVENT
END:VCALENDAR